BEGIN:VCALENDAR
VERSION:2.0
PRODID:-//85.13.128.143//NONSGML kigkonsult.se iCalcreator 2.20//
CALSCALE:GREGORIAN
METHOD:PUBLISH
X-WR-TIMEZONE:Europe/Berlin
BEGIN:VEVENT
UID:event477@NWV-Bremen
DTSTAMP:20260422T114932Z
CATEGORIES:Botanische Arbeitsgemeinschaft
DESCRIPTION:Wald in Bremen und heimische Gehölzarten\nSubject area: Botanis
 che Arbeitsgemeinschaft\nLink: https://www.nwv-bremen.de/index.php?option=
 com_jem&view=event&id=477:wald-in-bremen-und-heimische-gehoelzarten\n
DTSTART;TZID=Europe/Berlin:20121006T141500
DTEND;TZID=Europe/Berlin:20121006T171500
LOCATION:Bahnhof Klinikum Bremen-Nord\,Bremen-Beckedorf
SUMMARY:Wald in Bremen und heimische Gehölzarten
URL:https://www.nwv-bremen.de/index.php?option=com_jem&view=event&id=477:wa
 ld-in-bremen-und-heimische-gehoelzarten
END:VEVENT
END:VCALENDAR
