BEGIN:VCALENDAR
VERSION:2.0
PRODID:-//85.13.128.143//NONSGML kigkonsult.se iCalcreator 2.20//
CALSCALE:GREGORIAN
METHOD:PUBLISH
X-WR-TIMEZONE:Europe/Berlin
BEGIN:VEVENT
UID:event312@NWV-Bremen
DTSTAMP:20260419T121541Z
CATEGORIES:Botanische Arbeitsgemeinschaft
DESCRIPTION:Insel Mellum\nSubject area: Botanische Arbeitsgemeinschaft\nLin
 k: https://www.nwv-bremen.de/index.php?option=com_jem&view=event&id=312:in
 sel-mellum\n
DTSTART;TZID=Europe/Berlin:20090801T000000
DTEND;TZID=Europe/Berlin:20090801T000000
LOCATION:wird angemeldeten Teilnehmern mitgeteilt.
SUMMARY:Insel Mellum
URL:https://www.nwv-bremen.de/index.php?option=com_jem&view=event&id=312:in
 sel-mellum
END:VEVENT
END:VCALENDAR
