BEGIN:VCALENDAR
VERSION:2.0
PRODID:-//85.13.128.143//NONSGML kigkonsult.se iCalcreator 2.20//
CALSCALE:GREGORIAN
METHOD:PUBLISH
X-WR-TIMEZONE:Europe/Berlin
BEGIN:VEVENT
UID:event897@NWV-Bremen
DTSTAMP:20260422T101759Z
CATEGORIES:Arbeitskreis Pilzkunde
DESCRIPTION:Was zeigt sich schon im Frühjahr? – Pilzkundliche Frühjahrsexku
 rsion zu alten Waldstandorten im Landkreis Leer.\nSubject area: Arbeitskre
 is Pilzkunde\nLink: https://www.nwv-bremen.de/index.php?option=com_jem&vie
 w=event&id=897:pilzkunde-fruehjahrsexkursion-alte-waldstandorte-landkreis-
 leer-2019\n
DTSTART;TZID=Europe/Berlin:20190504T100000
DTEND;TZID=Europe/Berlin:20190504T100000
LOCATION:Waldstandorte Landkreis Leer
SUMMARY:Was zeigt sich schon im Frühjahr? – Pilzkundliche Frühjahrsexkursio
 n zu alten Waldstandorten im Landkreis Leer.
URL:https://www.nwv-bremen.de/index.php?option=com_jem&view=event&id=897:pi
 lzkunde-fruehjahrsexkursion-alte-waldstandorte-landkreis-leer-2019
END:VEVENT
BEGIN:VEVENT
UID:event966@NWV-Bremen
DTSTAMP:20260422T101759Z
CATEGORIES:Arbeitskreis Pilzkunde
DESCRIPTION:Pilzkundliche Spätsommer-Exkursion zu alten Waldstandorten im L
 andkreis Leer\nSubject area: Arbeitskreis Pilzkunde\nLink: https://www.nwv
 -bremen.de/index.php?option=com_jem&view=event&id=966:pilzkunde-spaetsomme
 r-alte-waldstandorte-landkreis-leer-2021\n
DTSTART;TZID=Europe/Berlin:20210918T100000
DTEND;TZID=Europe/Berlin:20210918T100000
LOCATION:Waldstandorte Landkreis Leer
SUMMARY:Pilzkundliche Spätsommer-Exkursion zu alten Waldstandorten im Landk
 reis Leer
URL:https://www.nwv-bremen.de/index.php?option=com_jem&view=event&id=966:pi
 lzkunde-spaetsommer-alte-waldstandorte-landkreis-leer-2021
END:VEVENT
END:VCALENDAR
