BEGIN:VCALENDAR
VERSION:2.0
PRODID:-//85.13.128.143//NONSGML kigkonsult.se iCalcreator 2.20//
CALSCALE:GREGORIAN
METHOD:PUBLISH
X-WR-TIMEZONE:Europe/Berlin
BEGIN:VEVENT
UID:event523@NWV-Bremen
DTSTAMP:20260423T112716Z
CATEGORIES:Arbeitskreis Pilzkunde
DESCRIPTION:Milchlinge und vieles mehr – die vielfältige Pilzwelt im Hägerd
 orn bei Hoya (TK 3120/4)\nSubject area: Arbeitskreis Pilzkunde\nLink: http
 s://www.nwv-bremen.de/index.php?option=com_jem&view=event&id=523:pilzwelt-
 haegerdorn-bei-hoya\n
DTSTART;TZID=Europe/Berlin:20130922T100000
DTEND;TZID=Europe/Berlin:20130922T100000
LOCATION:Hägerdorn\,Heesen (L331)\,Hoya
SUMMARY:Milchlinge und vieles mehr – die vielfältige Pilzwelt im Hägerdorn 
 bei Hoya (TK 3120/4)
URL:https://www.nwv-bremen.de/index.php?option=com_jem&view=event&id=523:pi
 lzwelt-haegerdorn-bei-hoya
END:VEVENT
BEGIN:VEVENT
UID:event1028@NWV-Bremen
DTSTAMP:20260423T112716Z
CATEGORIES:Arbeitskreis Pilzkunde
DESCRIPTION:Hägerdorn\nSubject area: Arbeitskreis Pilzkunde\nLink: https://
 www.nwv-bremen.de/index.php?option=com_jem&view=event&id=1028:haegerdorn-2
 022\n
DTSTART;TZID=Europe/Berlin:20220917T100000
DTEND;TZID=Europe/Berlin:20220917T100000
LOCATION:Hägerdorn\,Heesen (L331)\,Hoya
SUMMARY:Hägerdorn
URL:https://www.nwv-bremen.de/index.php?option=com_jem&view=event&id=1028:h
 aegerdorn-2022
END:VEVENT
END:VCALENDAR
