BEGIN:VCALENDAR
VERSION:2.0
PRODID:-//85.13.128.143//NONSGML kigkonsult.se iCalcreator 2.20//
CALSCALE:GREGORIAN
METHOD:PUBLISH
X-WR-TIMEZONE:Europe/Berlin
BEGIN:VEVENT
UID:event360@NWV-Bremen
DTSTAMP:20260420T200222Z
CATEGORIES:Arbeitskreis Pilzkunde
DESCRIPTION:Übungs- und Kartier-Exkursion: Malse (TK 2519/2 )\nSubject area
 : Arbeitskreis Pilzkunde\nLink: https://www.nwv-bremen.de/index.php?option
 =com_jem&view=event&id=360:übungsund-kartier-exkursion-malse-tk-2519-2-\n
DTSTART;VALUE=DATE:20100926
DTEND;VALUE=DATE:20100927
LOCATION:10 Uhr: Hipstedt\, Parkgelegenheit Straße „Zur Mals\,Hipstedt\,Ger
 many
SUMMARY:Übungs- und Kartier-Exkursion: Malse (TK 2519/2 )
END:VEVENT
END:VCALENDAR
