BEGIN:VCALENDAR
VERSION:2.0
PRODID:-//85.13.128.143//NONSGML kigkonsult.se iCalcreator 2.20//
CALSCALE:GREGORIAN
METHOD:PUBLISH
X-WR-TIMEZONE:Europe/Berlin
BEGIN:VEVENT
UID:event997@NWV-Bremen
DTSTAMP:20260426T022303Z
CATEGORIES:Arbeitskreis Pilzkunde
DESCRIPTION:Pilz-Feuchtwald-Exkursion\nSubject area: Arbeitskreis Pilzkunde
 \nLink: https://www.nwv-bremen.de/index.php?option=com_jem&view=event&id=9
 97:pilz-feuchtwald-exkursion-2021\n
DTSTART;TZID=Europe/Berlin:20210715T103000
DTEND;TZID=Europe/Berlin:20210715T103000
SUMMARY:Pilz-Feuchtwald-Exkursion
URL:https://www.nwv-bremen.de/index.php?option=com_jem&view=event&id=997:pi
 lz-feuchtwald-exkursion-2021
END:VEVENT
END:VCALENDAR
