BEGIN:VCALENDAR
VERSION:2.0
PRODID:-//85.13.128.143//NONSGML kigkonsult.se iCalcreator 2.20//
CALSCALE:GREGORIAN
METHOD:PUBLISH
X-WR-TIMEZONE:Europe/Berlin
BEGIN:VEVENT
UID:event771@NWV-Bremen
DTSTAMP:20260419T194125Z
CATEGORIES:Geowissenschaftlicher Arbeitskreis
DESCRIPTION:Kreidegrube Höver\nSubject area: Geowissenschaftlicher Arbeitsk
 reis\nLink: https://www.nwv-bremen.de/index.php?option=com_jem&view=event&
 id=771:Kreidegrube Höver 2016\n
DTSTART;TZID=Europe/Berlin:20160521T084500
DTEND;TZID=Europe/Berlin:20160521T163000
LOCATION:Kreidegrube Höver\,31319 Sehnde / Höver
SUMMARY:Kreidegrube Höver
END:VEVENT
END:VCALENDAR
