BEGIN:VCALENDAR
VERSION:2.0
PRODID:-//85.13.128.143//NONSGML kigkonsult.se iCalcreator 2.20//
CALSCALE:GREGORIAN
METHOD:PUBLISH
X-WR-TIMEZONE:Europe/Berlin
BEGIN:VEVENT
UID:event588@NWV-Bremen
DTSTAMP:20260420T042933Z
CATEGORIES:Botanische Arbeitsgemeinschaft
DESCRIPTION:Vegetation der Magerweiden und Moore im Landkreis Verden\nSubje
 ct area: Botanische Arbeitsgemeinschaft\nLink: https://www.nwv-bremen.de/i
 ndex.php?option=com_jem&view=event&id=588:vegetation-magerweiden-moore-ver
 den-2014\n
DTSTART;TZID=Europe/Berlin:20140531T100000
DTEND;TZID=Europe/Berlin:20140531T100000
LOCATION:Parkplatz der Feuerwehrtechnischen Zentrale (FTZ).\,Verden
SUMMARY:Vegetation der Magerweiden und Moore im Landkreis Verden
URL:https://www.nwv-bremen.de/index.php?option=com_jem&view=event&id=588:ve
 getation-magerweiden-moore-verden-2014
END:VEVENT
END:VCALENDAR
