BEGIN:VCALENDAR
VERSION:2.0
PRODID:-//85.13.128.143//NONSGML kigkonsult.se iCalcreator 2.20//
CALSCALE:GREGORIAN
METHOD:PUBLISH
X-WR-TIMEZONE:Europe/Berlin
BEGIN:VEVENT
UID:event397@NWV-Bremen
DTSTAMP:20260423T183040Z
CATEGORIES:Botanische Arbeitsgemeinschaft
DESCRIPTION:Lamckensbusch\nSubject area: Botanische Arbeitsgemeinschaft\nLi
 nk: https://www.nwv-bremen.de/index.php?option=com_jem&view=event&id=397:l
 amckensbusch-eichen-hainbuchenwald\n
DTSTART;TZID=Europe/Berlin:20110514T100000
DTEND;TZID=Europe/Berlin:20110514T130000
LOCATION:Lamckensbusch\,Holthorster Weg\,Leuchtenburg 
SUMMARY:Lamckensbusch
URL:https://www.nwv-bremen.de/index.php?option=com_jem&view=event&id=397:la
 mckensbusch-eichen-hainbuchenwald
END:VEVENT
END:VCALENDAR
