BEGIN:VCALENDAR
VERSION:2.0
PRODID:-//85.13.128.143//NONSGML kigkonsult.se iCalcreator 2.20//
CALSCALE:GREGORIAN
METHOD:PUBLISH
X-WR-TIMEZONE:Europe/Berlin
BEGIN:VEVENT
UID:event396@NWV-Bremen
DTSTAMP:20260421T232937Z
CATEGORIES:Botanische Arbeitsgemeinschaft
DESCRIPTION:Egestorff-Stiftung\, Wald in der Großstadt\nSubject area: Botan
 ische Arbeitsgemeinschaft\nLink: https://www.nwv-bremen.de/index.php?optio
 n=com_jem&view=event&id=396:egestorff-stiftung-wald-grossstadt\n
DTSTART;TZID=Europe/Berlin:20110508T100000
DTEND;TZID=Europe/Berlin:20110508T100000
LOCATION:Egestorff-Stiftung\,Osterholzer Heerstraße \,Bremen
SUMMARY:Egestorff-Stiftung\, Wald in der Großstadt
URL:https://www.nwv-bremen.de/index.php?option=com_jem&view=event&id=396:eg
 estorff-stiftung-wald-grossstadt
END:VEVENT
END:VCALENDAR
