BEGIN:VCALENDAR
VERSION:2.0
PRODID:-//85.13.128.143//NONSGML kigkonsult.se iCalcreator 2.20//
CALSCALE:GREGORIAN
METHOD:PUBLISH
X-WR-TIMEZONE:Europe/Berlin
BEGIN:VEVENT
UID:event192@NWV-Bremen
DTSTAMP:20260423T085654Z
CATEGORIES:Botanische Arbeitsgemeinschaft
DESCRIPTION:Achimer Binnendünen und Pannen\nSubject area: Botanische Arbeit
 sgemeinschaft\nLink: https://www.nwv-bremen.de/index.php?option=com_jem&vi
 ew=event&id=192:achimer-binnenduenen\n
DTSTART;TZID=Europe/Berlin:20060610T100000
DTEND;TZID=Europe/Berlin:20060610T100000
LOCATION:Sandtrockenrasen Achim (Binnendüne)\,Achim
SUMMARY:Achimer Binnendünen und Pannen
URL:https://www.nwv-bremen.de/index.php?option=com_jem&view=event&id=192:ac
 himer-binnenduenen
END:VEVENT
END:VCALENDAR
