BEGIN:VCALENDAR
VERSION:2.0
PRODID:-//85.13.128.143//NONSGML kigkonsult.se iCalcreator 2.20//
CALSCALE:GREGORIAN
METHOD:PUBLISH
X-WR-TIMEZONE:Europe/Berlin
BEGIN:VEVENT
UID:event145@NWV-Bremen
DTSTAMP:20260419T225022Z
CATEGORIES:Winter-Vortragsreihen
DESCRIPTION:Die Namib - Wüste\nSubject area: Winter-Vortragsreihen\nLink: h
 ttps://www.nwv-bremen.de/index.php?option=com_jem&view=event&id=145:vegeta
 tion-namib\n
DTSTART;TZID=Europe/Berlin:20050117T200000
DTEND;TZID=Europe/Berlin:20050117T200000
LOCATION:Übersee-Museum / Vortragssaal\,Bahnhofsplatz 13\,28195 Bremen
SUMMARY:Die Namib - Wüste
URL:https://www.nwv-bremen.de/index.php?option=com_jem&view=event&id=145:ve
 getation-namib
END:VEVENT
END:VCALENDAR
