BEGIN:VCALENDAR
VERSION:2.0
PRODID:-//85.13.128.143//NONSGML kigkonsult.se iCalcreator 2.20//
CALSCALE:GREGORIAN
METHOD:PUBLISH
X-WR-TIMEZONE:Europe/Berlin
BEGIN:VEVENT
UID:event1126@NWV-Bremen
DTSTAMP:20260422T074032Z
CATEGORIES:Arbeitskreis-Treffen und Einzelveranstaltungen
DESCRIPTION:Mitgliederversammlung 2023\nSubject area: Arbeitskreis-Treffen 
 und Einzelveranstaltungen\nLink: https://www.nwv-bremen.de/index.php?optio
 n=com_jem&view=event&id=1126:mitgliederversammlung-2023\n
DTSTART;TZID=Europe/Berlin:20230522T180000
DTEND;TZID=Europe/Berlin:20230522T200000
LOCATION:Übersee-Museum / Vortragssaal\,Bahnhofsplatz 13\,28195 Bremen
SUMMARY:Mitgliederversammlung 2023
URL:https://www.nwv-bremen.de/index.php?option=com_jem&view=event&id=1126:m
 itgliederversammlung-2023
END:VEVENT
END:VCALENDAR
