BEGIN:VCALENDAR
VERSION:2.0
PRODID:-//85.13.128.143//NONSGML kigkonsult.se iCalcreator 2.20//
CALSCALE:GREGORIAN
METHOD:PUBLISH
X-WR-TIMEZONE:Europe/Berlin
BEGIN:VEVENT
UID:event60@NWV-Bremen
DTSTAMP:20260425T174124Z
CATEGORIES:Botanische Arbeitsgemeinschaft
DESCRIPTION:Naturwaldzellen in der Colbitzer Heide und im Colbitzer Lindenw
 ald nördlich von Magdeburg\nSubject area: Botanische Arbeitsgemeinschaft\n
 Link: https://www.nwv-bremen.de/index.php?option=com_jem&view=event&id=60:
 naturwaldzellen-magdeburg\n
DTSTART;TZID=Europe/Berlin:20010512T100000
DTEND;TZID=Europe/Berlin:20010512T100000
LOCATION:Forstliche Landesanstalt in Flechtingen.\,Flechtingen
SUMMARY:Naturwaldzellen in der Colbitzer Heide und im Colbitzer Lindenwald 
 nördlich von Magdeburg
URL:https://www.nwv-bremen.de/index.php?option=com_jem&view=event&id=60:nat
 urwaldzellen-magdeburg
END:VEVENT
END:VCALENDAR
