BEGIN:VCALENDAR
VERSION:2.0
PRODID:-//85.13.128.143//NONSGML kigkonsult.se iCalcreator 2.20//
CALSCALE:GREGORIAN
METHOD:PUBLISH
X-WR-TIMEZONE:Europe/Berlin
BEGIN:VEVENT
UID:event44@NWV-Bremen
DTSTAMP:20260425T121249Z
CATEGORIES:Arbeitskreis Pilzkunde
DESCRIPTION:Pilze in der Steller Heide (MTB 2918/3)\nSubject area: Arbeitsk
 reis Pilzkunde\nLink: https://www.nwv-bremen.de/index.php?option=com_jem&v
 iew=event&id=44:pilze-steller-heide\n
DTSTART;TZID=Europe/Berlin:20030921T093000
DTEND;TZID=Europe/Berlin:20030921T093000
LOCATION:9.30 Uhr\, Parkplatz Sonderpostenmarkt Zimmermann i\,Groß-Mackenst
 edt
SUMMARY:Pilze in der Steller Heide (MTB 2918/3)
URL:https://www.nwv-bremen.de/index.php?option=com_jem&view=event&id=44:pil
 ze-steller-heide
END:VEVENT
END:VCALENDAR
