BEGIN:VCALENDAR
VERSION:2.0
PRODID:-//85.13.128.143//NONSGML kigkonsult.se iCalcreator 2.20//
CALSCALE:GREGORIAN
METHOD:PUBLISH
X-WR-TIMEZONE:Europe/Berlin
BEGIN:VEVENT
UID:event1032@NWV-Bremen
DTSTAMP:20260422T103518Z
CATEGORIES:Botanische Arbeitsgemeinschaft
DESCRIPTION:Botanische Frühjahrswanderung zu den Niedermoorwiesen im NSG Bo
 rgfelder Wümmewiesen\nSubject area: Botanische Arbeitsgemeinschaft\nLink: 
 https://www.nwv-bremen.de/index.php?option=com_jem&view=event&id=1032:bota
 nik-fruehjahr-niedermoor-wiesen-nsg-borgfelder-wuemmewiesen-2022\n
DTSTART;TZID=Europe/Berlin:20220507T130000
DTEND;TZID=Europe/Berlin:20220507T130000
LOCATION:Borgfelder Wümmewiesen\,28357 Bremen
SUMMARY:Botanische Frühjahrswanderung zu den Niedermoorwiesen im NSG Borgfe
 lder Wümmewiesen
URL:https://www.nwv-bremen.de/index.php?option=com_jem&view=event&id=1032:b
 otanik-fruehjahr-niedermoor-wiesen-nsg-borgfelder-wuemmewiesen-2022
END:VEVENT
BEGIN:VEVENT
UID:event1181@NWV-Bremen
DTSTAMP:20260422T103518Z
CATEGORIES:Botanische Arbeitsgemeinschaft
DESCRIPTION:Die Sumpfdotterblumenwiese - Pflanzengesellschaft des Jahres 20
 24. Exkursion in die Borgfelder Wümmewiesen\nSubject area: Botanische Arbe
 itsgemeinschaft\nLink: https://www.nwv-bremen.de/index.php?option=com_jem&
 view=event&id=1181:sumpfdotterblumenwiese-pflanzengesellschaft-des-jahres-
 2024-borgfelder-wuemmewiesen\n
DTSTART;TZID=Europe/Berlin:20240420T100000
DTEND;TZID=Europe/Berlin:20240420T130000
LOCATION:Borgfelder Wümmewiesen\,28357 Bremen
SUMMARY:Die Sumpfdotterblumenwiese - Pflanzengesellschaft des Jahres 2024. 
 Exkursion in die Borgfelder Wümmewiesen
URL:https://www.nwv-bremen.de/index.php?option=com_jem&view=event&id=1181:s
 umpfdotterblumenwiese-pflanzengesellschaft-des-jahres-2024-borgfelder-wuem
 mewiesen
END:VEVENT
BEGIN:VEVENT
UID:event1223@NWV-Bremen
DTSTAMP:20260422T103518Z
CATEGORIES:Botanische Arbeitsgemeinschaft
DESCRIPTION:XX FÄLLT AUS: Vegetationsdynamik im Nassgrünland: Ergebnisse ei
 nes 40-jährigen Untersuchungsprojekts in den Borgfelder Wümmewiesen.\nSubj
 ect area: Botanische Arbeitsgemeinschaft\nLink: https://www.nwv-bremen.de/
 index.php?option=com_jem&view=event&id=1223:vegetationsdynamik-nassgruenla
 nd-40-jahre-untersuchungen-borgfelder-wuemmewiesen-2024\n
DTSTART;TZID=Europe/Berlin:20240615T140000
DTEND;TZID=Europe/Berlin:20240615T180000
LOCATION:Borgfelder Wümmewiesen\,28357 Bremen
SUMMARY:XX FÄLLT AUS: Vegetationsdynamik im Nassgrünland: Ergebnisse eines 
 40-jährigen Untersuchungsprojekts in den Borgfelder Wümmewiesen.
URL:https://www.nwv-bremen.de/index.php?option=com_jem&view=event&id=1223:v
 egetationsdynamik-nassgruenland-40-jahre-untersuchungen-borgfelder-wuemmew
 iesen-2024
END:VEVENT
BEGIN:VEVENT
UID:event1282@NWV-Bremen
DTSTAMP:20260422T103518Z
CATEGORIES:Botanische Arbeitsgemeinschaft
DESCRIPTION:Vegetationsdynamik im Feuchtgrünland: Ergebnisse 40-jähriger Da
 uerflächenuntersuchungen mit verschiedenen Mahdvarianten und Brache in den
  Borgfelder Wümmewiesen\nSubject area: Botanische Arbeitsgemeinschaft\nLin
 k: https://www.nwv-bremen.de/index.php?option=com_jem&view=event&id=1282:v
 egetationsdynamik-nassgruenland-40-jahre-untersuchungen-borgfelder-wuemmew
 iesen-2025\n
DTSTART;TZID=Europe/Berlin:20250524T140000
DTEND;TZID=Europe/Berlin:20250524T180000
LOCATION:Borgfelder Wümmewiesen\,28357 Bremen
SUMMARY:Vegetationsdynamik im Feuchtgrünland: Ergebnisse 40-jähriger Dauerf
 lächenuntersuchungen mit verschiedenen Mahdvarianten und Brache in den Bor
 gfelder Wümmewiesen
URL:https://www.nwv-bremen.de/index.php?option=com_jem&view=event&id=1282:v
 egetationsdynamik-nassgruenland-40-jahre-untersuchungen-borgfelder-wuemmew
 iesen-2025
END:VEVENT
END:VCALENDAR
