BEGIN:VCALENDAR
VERSION:2.0
PRODID:-//85.13.128.143//NONSGML kigkonsult.se iCalcreator 2.20//
CALSCALE:GREGORIAN
METHOD:PUBLISH
X-WR-TIMEZONE:Europe/Berlin
BEGIN:VEVENT
UID:event754@NWV-Bremen
DTSTAMP:20260419T123411Z
CATEGORIES:Botanische Arbeitsgemeinschaft
DESCRIPTION:Botanische Streifzüge durch Bremen: Waller Grünzug\nSubject are
 a: Botanische Arbeitsgemeinschaft\nLink: https://www.nwv-bremen.de/index.p
 hp?option=com_jem&view=event&id=754:Botanische Streifzüge Bremen Waller Gr
 ünzug 2016\n
DTSTART;TZID=Europe/Berlin:20160521T140000
DTEND;TZID=Europe/Berlin:20160521T170000
LOCATION:Waller Grünzug / Waller Straße\,Waller Straße\,Bremen-Walle
SUMMARY:Botanische Streifzüge durch Bremen: Waller Grünzug
END:VEVENT
END:VCALENDAR
