BEGIN:VCALENDAR
VERSION:2.0
PRODID:-//85.13.128.143//NONSGML kigkonsult.se iCalcreator 2.20//
CALSCALE:GREGORIAN
METHOD:PUBLISH
X-WR-TIMEZONE:Europe/Berlin
BEGIN:VEVENT
UID:event187@NWV-Bremen
DTSTAMP:20260420T105230Z
CATEGORIES:Botanische Arbeitsgemeinschaft
DESCRIPTION:NSG Gaim (Hannover)\nSubject area: Botanische Arbeitsgemeinscha
 ft\nLink: https://www.nwv-bremen.de/index.php?option=com_jem&view=event&id
 =187:nsg-gaim\n
DTSTART;VALUE=DATE:20060506
DTEND;VALUE=DATE:20060507
LOCATION:10.00 Uhr\, Ende der Autobahnabfahrt Wülferode (A7\,\,Wülferode
SUMMARY:NSG Gaim (Hannover)
URL:https://www.nwv-bremen.de/index.php?option=com_jem&view=event&id=187:ns
 g-gaim
END:VEVENT
END:VCALENDAR
