BEGIN:VCALENDAR
VERSION:2.0
PRODID:-//85.13.128.143//NONSGML kigkonsult.se iCalcreator 2.20//
CALSCALE:GREGORIAN
METHOD:PUBLISH
X-WR-TIMEZONE:Europe/Berlin
BEGIN:VEVENT
UID:event70@NWV-Bremen
DTSTAMP:20260422T084408Z
CATEGORIES:Arbeitskreis Pilzkunde
DESCRIPTION:Pilz-Exkursion auf dem Gelande der Ökologie-Station/Bremen-Nord
 \, (MTB 2817.2)\nFachgebiet: Arbeitskreis Pilzkunde\nICS-Link: https://www
 .nwv-bremen.de/index.php?option=com_jem&view=event&id=70:pilz-exkursion-oe
 kologie-station\n
DTSTART;VALUE=DATE:20011014
DTEND;VALUE=DATE:20011015
LOCATION:Ökologiestation\,Am Güthpohl 11\,Bremen-Schönebeck
SUMMARY:Pilz-Exkursion auf dem Gelande der Ökologie-Station/Bremen-Nord\, (
 MTB 2817.2)
URL:https://www.nwv-bremen.de/index.php?option=com_jem&view=event&id=70:pil
 z-exkursion-oekologie-station
END:VEVENT
BEGIN:VEVENT
UID:event547@NWV-Bremen
DTSTAMP:20260422T084408Z
CATEGORIES:Naturnutzungskonzepte
DESCRIPTION:Artenvielfalt und Ökologische Tierhaltung im Schönebecker Aueta
 l.\nFachgebiet: Naturnutzungskonzepte\nICS-Link: https://www.nwv-bremen.de
 /index.php?option=com_jem&view=event&id=547:Tierhaltung Schönebecker Aueta
 l 2013\n
DTSTART;TZID=Europe/Berlin:20130616T100000
DTEND;TZID=Europe/Berlin:20130616T100000
LOCATION:Ökologiestation\,Am Güthpohl 11\,Bremen-Schönebeck
SUMMARY:Artenvielfalt und Ökologische Tierhaltung im Schönebecker Auetal.
END:VEVENT
END:VCALENDAR
