BEGIN:VCALENDAR
VERSION:2.0
PRODID:-//85.13.128.143//NONSGML kigkonsult.se iCalcreator 2.20//
CALSCALE:GREGORIAN
METHOD:PUBLISH
X-WR-TIMEZONE:Europe/Berlin
BEGIN:VEVENT
UID:event376@NWV-Bremen
DTSTAMP:20260421T085950Z
CATEGORIES:Botanische Arbeitsgemeinschaft
DESCRIPTION:Ruderal-Exkursion: Bahndämme und Bahnbrachen zwischen Walle und
  Oslebshausen\nFachgebiet: Botanische Arbeitsgemeinschaft\nICS-Link: https
 ://www.nwv-bremen.de/index.php?option=com_jem&view=event&id=376:ruderal-ex
 kursion-bahndämme-bahnbrachen-zwischen-walle-oslebshausen\n
DTSTART;VALUE=DATE:20100827
DTEND;VALUE=DATE:20100828
LOCATION:15.00 Uhr\, Am Kletterturm\, „Bunker“\, ca. 70 m west\,Bremen\,Ger
 many
SUMMARY:Ruderal-Exkursion: Bahndämme und Bahnbrachen zwischen Walle und Osl
 ebshausen
END:VEVENT
END:VCALENDAR
