BEGIN:VCALENDAR
VERSION:2.0
PRODID:-//85.13.128.143//NONSGML kigkonsult.se iCalcreator 2.20//
CALSCALE:GREGORIAN
METHOD:PUBLISH
X-WR-TIMEZONE:Europe/Berlin
BEGIN:VEVENT
UID:event364@NWV-Bremen
DTSTAMP:20260422T114829Z
CATEGORIES:Botanische Arbeitsgemeinschaft
DESCRIPTION:Gehölze im Stadtpark Vegesack\nFachgebiet: Botanische Arbeitsge
 meinschaft\nICS-Link: https://www.nwv-bremen.de/index.php?option=com_jem&v
 iew=event&id=364:gehölze-stadtpark-vegesack\n
DTSTART;VALUE=DATE:20100509
DTEND;VALUE=DATE:20100510
LOCATION:10.00 Uhr Fähranleger Vegesack.\,Bremen-Vegesack\,Germany
SUMMARY:Gehölze im Stadtpark Vegesack
END:VEVENT
END:VCALENDAR
