BEGIN:VCALENDAR
VERSION:2.0
PRODID:-//85.13.128.143//NONSGML kigkonsult.se iCalcreator 2.20//
CALSCALE:GREGORIAN
METHOD:PUBLISH
X-WR-TIMEZONE:Europe/Berlin
BEGIN:VEVENT
UID:event45@NWV-Bremen
DTSTAMP:20260423T132557Z
CATEGORIES:Arbeitskreis Pilzkunde
DESCRIPTION:Pilz-Wanderung Trennthorst-Varrel südlich Engeln (MTB 3219/1)\n
 Fachgebiet: Arbeitskreis Pilzkunde\nICS-Link: https://www.nwv-bremen.de/in
 dex.php?option=com_jem&view=event&id=45:pilze-trennthorst-varrel\n
DTSTART;VALUE=DATE:20031012
DTEND;VALUE=DATE:20031013
LOCATION:10 Uhr\, Parkplatz Raststätte Dillertal an der B 6.
SUMMARY:Pilz-Wanderung Trennthorst-Varrel südlich Engeln (MTB 3219/1)
URL:https://www.nwv-bremen.de/index.php?option=com_jem&view=event&id=45:pil
 ze-trennthorst-varrel
END:VEVENT
END:VCALENDAR
