BEGIN:VCALENDAR
VERSION:2.0
PRODID:-//85.13.128.143//NONSGML kigkonsult.se iCalcreator 2.20//
CALSCALE:GREGORIAN
METHOD:PUBLISH
X-WR-TIMEZONE:Europe/Berlin
BEGIN:VEVENT
UID:event398@NWV-Bremen
DTSTAMP:20260423T202859Z
CATEGORIES:Botanische Arbeitsgemeinschaft
DESCRIPTION:Sumpfwald an der Altgrove\, Landkreis Cuxhaven\nFachgebiet: Bot
 anische Arbeitsgemeinschaft\nICS-Link: https://www.nwv-bremen.de/index.php
 ?option=com_jem&view=event&id=398:sumpfwald-altgrove-cuxhaven\n
DTSTART;TZID=Europe/Berlin:20110527T140000
DTEND;TZID=Europe/Berlin:20110527T170000
LOCATION:Altgrove\, Campingplatz Silbersee \,Wehdel
SUMMARY:Sumpfwald an der Altgrove\, Landkreis Cuxhaven
URL:https://www.nwv-bremen.de/index.php?option=com_jem&view=event&id=398:su
 mpfwald-altgrove-cuxhaven
END:VEVENT
END:VCALENDAR
