BEGIN:VCALENDAR
VERSION:2.0
PRODID:-//85.13.128.143//NONSGML kigkonsult.se iCalcreator 2.20//
CALSCALE:GREGORIAN
METHOD:PUBLISH
X-WR-TIMEZONE:Europe/Berlin
BEGIN:VEVENT
UID:event369@NWV-Bremen
DTSTAMP:20260419T163425Z
CATEGORIES:Botanische Arbeitsgemeinschaft
DESCRIPTION:Gehölze im Rhododendron-Park\nFachgebiet: Botanische Arbeitsgem
 einschaft\nICS-Link: https://www.nwv-bremen.de/index.php?option=com_jem&vi
 ew=event&id=369:gehölze-rhododendron-park\n
DTSTART;VALUE=DATE:20100609
DTEND;VALUE=DATE:20100610
LOCATION:Botanika-Bremen\,Deliusweg 40\,28359 Bremen
SUMMARY:Gehölze im Rhododendron-Park
END:VEVENT
END:VCALENDAR
