BEGIN:VCALENDAR
VERSION:2.0
PRODID:-//85.13.128.143//NONSGML kigkonsult.se iCalcreator 2.20//
CALSCALE:GREGORIAN
METHOD:PUBLISH
X-WR-TIMEZONE:Europe/Berlin
BEGIN:VEVENT
UID:event309@NWV-Bremen
DTSTAMP:20260419T215126Z
CATEGORIES:Botanische Arbeitsgemeinschaft
DESCRIPTION:Borgfelder Wümmewiesen\nFachgebiet: Botanische Arbeitsgemeinsch
 aft\nICS-Link: https://www.nwv-bremen.de/index.php?option=com_jem&view=eve
 nt&id=309:borgfelder-wümmewiesen\n
DTSTART;TZID=Europe/Berlin:20090530T000000
DTEND;TZID=Europe/Berlin:20090530T000000
LOCATION:Kirche in Borgfeld\,Borgfelder Landstraße\,28357 Bremen
SUMMARY:Borgfelder Wümmewiesen
END:VEVENT
END:VCALENDAR
