BEGIN:VCALENDAR
VERSION:2.0
PRODID:-//85.13.128.143//NONSGML kigkonsult.se iCalcreator 2.20//
CALSCALE:GREGORIAN
METHOD:PUBLISH
X-WR-TIMEZONE:Europe/Berlin
BEGIN:VEVENT
UID:event124@NWV-Bremen
DTSTAMP:20260426T022028Z
CATEGORIES:Botanische Arbeitsgemeinschaft
DESCRIPTION:Hutewaldprojekt im Solling und Oberwesertal bei Bad Karlshafen
 \nFachgebiet: Botanische Arbeitsgemeinschaft\nICS-Link: https://www.nwv-br
 emen.de/index.php?option=com_jem&view=event&id=124:hutewald-solling\n
DTSTART;VALUE=DATE:20040807
DTEND;VALUE=DATE:20040808
LOCATION:zu erfragen beim Arbeitskreisleiter! Auch wo übern\,Germany
SUMMARY:Hutewaldprojekt im Solling und Oberwesertal bei Bad Karlshafen
URL:https://www.nwv-bremen.de/index.php?option=com_jem&view=event&id=124:hu
 tewald-solling
END:VEVENT
END:VCALENDAR
